BEGIN:VCALENDAR
VERSION:2.0
PRODID:-//Temple Bat Yam - ECPv6.15.17//NONSGML v1.0//EN
CALSCALE:GREGORIAN
METHOD:PUBLISH
X-WR-CALNAME:Temple Bat Yam
X-ORIGINAL-URL:https://tbytahoe.org
X-WR-CALDESC:Events for Temple Bat Yam
REFRESH-INTERVAL;VALUE=DURATION:PT1H
X-Robots-Tag:noindex
X-PUBLISHED-TTL:PT1H
BEGIN:VTIMEZONE
TZID:America/Los_Angeles
BEGIN:DAYLIGHT
TZOFFSETFROM:-0800
TZOFFSETTO:-0700
TZNAME:PDT
DTSTART:20230312T100000
END:DAYLIGHT
BEGIN:STANDARD
TZOFFSETFROM:-0700
TZOFFSETTO:-0800
TZNAME:PST
DTSTART:20231105T090000
END:STANDARD
BEGIN:DAYLIGHT
TZOFFSETFROM:-0800
TZOFFSETTO:-0700
TZNAME:PDT
DTSTART:20240310T100000
END:DAYLIGHT
BEGIN:STANDARD
TZOFFSETFROM:-0700
TZOFFSETTO:-0800
TZNAME:PST
DTSTART:20241103T090000
END:STANDARD
BEGIN:DAYLIGHT
TZOFFSETFROM:-0800
TZOFFSETTO:-0700
TZNAME:PDT
DTSTART:20250309T100000
END:DAYLIGHT
BEGIN:STANDARD
TZOFFSETFROM:-0700
TZOFFSETTO:-0800
TZNAME:PST
DTSTART:20251102T090000
END:STANDARD
END:VTIMEZONE
BEGIN:VEVENT
DTSTART;TZID=America/Los_Angeles:20241208T193000
DTEND;TZID=America/Los_Angeles:20241208T210000
DTSTAMP:20260424T021551
CREATED:20241114T232613Z
LAST-MODIFIED:20241114T232613Z
UID:10000872-1733686200-1733691600@tbytahoe.org
SUMMARY:TJC December Book Club- Uncomfortable Conversations With a Jew
DESCRIPTION:Topic: TJC Book Club: Uncomfortable Conversations With a Jew\nTime: Dec 8\, 2024 07:30 PM Pacific Time (US and Canada) \nJoin Zoom Meeting\nhttps://us06web.zoom.us/j/86167351402?pwd=8XZTMVgJlawEch5LmLv5KPa8eXBNKD.1 \n\nYou can find the book on Amazon Here: https://www.amazon.com/Uncomfortable-Conversations-Jew-Emmanuel-Acho/dp/1668057859
URL:https://tbytahoe.org/event/tjc-december-book-club-uncomfortable-conversations-with-a-jew/
LOCATION:Virtual Via Zoom
CATEGORIES:Virtual
END:VEVENT
BEGIN:VEVENT
DTSTART;TZID=America/Los_Angeles:20241211T180000
DTEND;TZID=America/Los_Angeles:20241211T210000
DTSTAMP:20260424T021551
CREATED:20241016T182613Z
LAST-MODIFIED:20241204T225932Z
UID:10000869-1733940000-1733950800@tbytahoe.org
SUMMARY:Vodka & Latkes 2024
DESCRIPTION:It’s Time for Vodka and Latkes!!\nVodka & Latkes returns again this year to TBY on WEDNESDAY\, December 11th from 6-9 pm.\n\nMark your calendars and plan to join us as we sample latkes\, Tahoe Blue Vodka cocktails\, appetizers and other small bites. Dreidel spinning and Raffle prizes to be won will be part of the festive celebration of Hanukkah. This event is open to our entire Tahoe community\, so invite your friends and family to our fundraising celebration.\n\nEntry Tickets AND Raffle Tickets can be purchased below. Raffle tickets are $5 each or 25 tickets for $100. In addition to our raffle\, we will have a silent auction for some of our items. Entry per person is $75.\n\nMust be 21 to attend\n\nThis is our last fundraiser for 2024. Help us to make it the best. See you there!\n\n\nDiscount Hotel for the Night of Vodka & Latkes\nContact Jerry Bindel\, General Manager of Forest Suites – jbindel@forestsuites.com.\nPlease note TBY’s Vodka & Latkes in the Subject of your email.\n\n\n\nBrowse Additional Hanukkah Events
URL:https://tbytahoe.org/event/vodka-latkes-2024/
LOCATION:Temple Bat Yam\, 3260 Pioneer Trail\, South Lake Tahoe\, CA\, 96150\, United States
CATEGORIES:Fundraiser
ATTACH;FMTTYPE=image/jpeg:https://tbytahoe.org/wp-content/uploads/2024/10/IMG_7793.jpg
END:VEVENT
BEGIN:VEVENT
DTSTART;TZID=America/Los_Angeles:20241212T120000
DTEND;TZID=America/Los_Angeles:20241212T130000
DTSTAMP:20260424T021551
CREATED:20240516T200943Z
LAST-MODIFIED:20241021T212110Z
UID:10000567-1734004800-1734008400@tbytahoe.org
SUMMARY:Torah Study
DESCRIPTION:Join us as we explore the weeks Torah Portion. \nFeel free to bring your lunch to enjoy as we discuss.
URL:https://tbytahoe.org/event/torah-study-4/2024-12-12/
LOCATION:Temple Bat Yam\, 3260 Pioneer Trail\, South Lake Tahoe\, CA\, 96150\, United States
END:VEVENT
BEGIN:VEVENT
DTSTART;TZID=America/Los_Angeles:20241212T160000
DTEND;TZID=America/Los_Angeles:20241212T180000
DTSTAMP:20260424T021551
CREATED:20240815T214808Z
LAST-MODIFIED:20240815T215705Z
UID:10000592-1734019200-1734026400@tbytahoe.org
SUMMARY:Religious School
DESCRIPTION:
URL:https://tbytahoe.org/event/religious-school-3/2024-12-12/
LOCATION:Temple Bat Yam\, 3260 Pioneer Trail\, South Lake Tahoe\, CA\, 96150\, United States
CATEGORIES:Religious School
END:VEVENT
BEGIN:VEVENT
DTSTART;TZID=America/Los_Angeles:20241213T173000
DTEND;TZID=America/Los_Angeles:20241213T193000
DTSTAMP:20260424T021551
CREATED:20241204T230017Z
LAST-MODIFIED:20241204T230018Z
UID:10000550-1734111000-1734118200@tbytahoe.org
SUMMARY:Tot/Family Shabbat\, Nosh & Shabbat Services at TBY
DESCRIPTION:Tot/Family Shabbat\, Nosh\, & Shabbat Services is a Shabbat evening for all in our community to find the “right-sized” moment to welcome Shabbat.  We gather at 5:30 pm for our youngest community members and families to welcome Shabbat with songs\, a story\, and some blessings.  We continue with a light nosh (appetizers and challah) at 6:00 pm.  We gather at 6:30 pm for a Community Shabbat service. \n  \nBrowse Additional Hanukkah Events
URL:https://tbytahoe.org/event/tot-family-shabbat-nosh-shabbat-services-at-tby-2/
LOCATION:Temple Bat Yam\, 3260 Pioneer Trail\, South Lake Tahoe\, CA\, 96150\, United States
END:VEVENT
BEGIN:VEVENT
DTSTART;TZID=America/Los_Angeles:20241214T170000
DTEND;TZID=America/Los_Angeles:20241214T183000
DTSTAMP:20260424T021551
CREATED:20240523T223245Z
LAST-MODIFIED:20240523T223245Z
UID:10000574-1734195600-1734201000@tbytahoe.org
SUMMARY:December Truckee Event
DESCRIPTION:More Details Soon \nIf you are a Truckee resident and would like to cocreate and host a Truckee event please reach out to Rabbi Lauren: rabbilauren@tbytahoe.org
URL:https://tbytahoe.org/event/december-truckee-event/
LOCATION:Temple Bat Yam\, 3260 Pioneer Trail\, South Lake Tahoe\, CA\, 96150\, United States
END:VEVENT
END:VCALENDAR