BEGIN:VCALENDAR
VERSION:2.0
PRODID:-//Temple Bat Yam - ECPv6.15.17//NONSGML v1.0//EN
CALSCALE:GREGORIAN
METHOD:PUBLISH
X-WR-CALNAME:Temple Bat Yam
X-ORIGINAL-URL:https://tbytahoe.org
X-WR-CALDESC:Events for Temple Bat Yam
REFRESH-INTERVAL;VALUE=DURATION:PT1H
X-Robots-Tag:noindex
X-PUBLISHED-TTL:PT1H
BEGIN:VTIMEZONE
TZID:America/Los_Angeles
BEGIN:DAYLIGHT
TZOFFSETFROM:-0800
TZOFFSETTO:-0700
TZNAME:PDT
DTSTART:20240310T100000
END:DAYLIGHT
BEGIN:STANDARD
TZOFFSETFROM:-0700
TZOFFSETTO:-0800
TZNAME:PST
DTSTART:20241103T090000
END:STANDARD
BEGIN:DAYLIGHT
TZOFFSETFROM:-0800
TZOFFSETTO:-0700
TZNAME:PDT
DTSTART:20250309T100000
END:DAYLIGHT
BEGIN:STANDARD
TZOFFSETFROM:-0700
TZOFFSETTO:-0800
TZNAME:PST
DTSTART:20251102T090000
END:STANDARD
BEGIN:DAYLIGHT
TZOFFSETFROM:-0800
TZOFFSETTO:-0700
TZNAME:PDT
DTSTART:20260308T100000
END:DAYLIGHT
BEGIN:STANDARD
TZOFFSETFROM:-0700
TZOFFSETTO:-0800
TZNAME:PST
DTSTART:20261101T090000
END:STANDARD
BEGIN:DAYLIGHT
TZOFFSETFROM:-0800
TZOFFSETTO:-0700
TZNAME:PDT
DTSTART:20270314T100000
END:DAYLIGHT
BEGIN:STANDARD
TZOFFSETFROM:-0700
TZOFFSETTO:-0800
TZNAME:PST
DTSTART:20271107T090000
END:STANDARD
END:VTIMEZONE
BEGIN:VEVENT
DTSTART;TZID=America/Los_Angeles:20250327T160000
DTEND;TZID=America/Los_Angeles:20250327T180000
DTSTAMP:20260422T021814
CREATED:20240815T214808Z
LAST-MODIFIED:20240815T215705Z
UID:10000604-1743091200-1743098400@tbytahoe.org
SUMMARY:Religious School
DESCRIPTION:
URL:https://tbytahoe.org/event/religious-school-3/2025-03-27/
LOCATION:Temple Bat Yam\, 3260 Pioneer Trail\, South Lake Tahoe\, CA\, 96150\, United States
CATEGORIES:Religious School
END:VEVENT
BEGIN:VEVENT
DTSTART;TZID=America/Los_Angeles:20250403T160000
DTEND;TZID=America/Los_Angeles:20250403T180000
DTSTAMP:20260422T021814
CREATED:20240815T214808Z
LAST-MODIFIED:20240815T215705Z
UID:10000605-1743696000-1743703200@tbytahoe.org
SUMMARY:Religious School
DESCRIPTION:
URL:https://tbytahoe.org/event/religious-school-3/2025-04-03/
LOCATION:Temple Bat Yam\, 3260 Pioneer Trail\, South Lake Tahoe\, CA\, 96150\, United States
CATEGORIES:Religious School
END:VEVENT
BEGIN:VEVENT
DTSTART;TZID=America/Los_Angeles:20250424T160000
DTEND;TZID=America/Los_Angeles:20250424T180000
DTSTAMP:20260422T021814
CREATED:20240815T214808Z
LAST-MODIFIED:20240815T215705Z
UID:10000606-1745510400-1745517600@tbytahoe.org
SUMMARY:Religious School
DESCRIPTION:
URL:https://tbytahoe.org/event/religious-school-3/2025-04-24/
LOCATION:Temple Bat Yam\, 3260 Pioneer Trail\, South Lake Tahoe\, CA\, 96150\, United States
CATEGORIES:Religious School
END:VEVENT
BEGIN:VEVENT
DTSTART;TZID=America/Los_Angeles:20250501T160000
DTEND;TZID=America/Los_Angeles:20250501T180000
DTSTAMP:20260422T021814
CREATED:20240815T214808Z
LAST-MODIFIED:20240815T215705Z
UID:10000607-1746115200-1746122400@tbytahoe.org
SUMMARY:Religious School
DESCRIPTION:
URL:https://tbytahoe.org/event/religious-school-3/2025-05-01/
LOCATION:Temple Bat Yam\, 3260 Pioneer Trail\, South Lake Tahoe\, CA\, 96150\, United States
CATEGORIES:Religious School
END:VEVENT
BEGIN:VEVENT
DTSTART;TZID=America/Los_Angeles:20250914T130000
DTEND;TZID=America/Los_Angeles:20250914T170000
DTSTAMP:20260422T021814
CREATED:20251104T182303Z
LAST-MODIFIED:20251104T182303Z
UID:10001146-1757854800-1757869200@tbytahoe.org
SUMMARY:Religious School Torah in the Trees
DESCRIPTION:Tahoe Jewish Community Religious school students and families. \nPlease submit your RSVP with your Religious School Registration. If you have not received registration information\, please email alicia@tbytahoe.org \n\nThis event is supported though a grant from Jewish Nevada.
URL:https://tbytahoe.org/event/religious-school-torah-in-the-trees-2/
LOCATION:Temple Bat Yam\, 3260 Pioneer Trail\, South Lake Tahoe\, CA\, 96150\, United States
CATEGORIES:Religious School
END:VEVENT
BEGIN:VEVENT
DTSTART;TZID=America/Los_Angeles:20250918T160000
DTEND;TZID=America/Los_Angeles:20250918T180000
DTSTAMP:20260422T021814
CREATED:20250828T145853Z
LAST-MODIFIED:20250828T145853Z
UID:10001110-1758211200-1758218400@tbytahoe.org
SUMMARY:Religious School
DESCRIPTION:
URL:https://tbytahoe.org/event/religious-school-4/2025-09-18/
LOCATION:Temple Bat Yam\, 3260 Pioneer Trail\, South Lake Tahoe\, CA\, 96150\, United States
CATEGORIES:Religious School
END:VEVENT
BEGIN:VEVENT
DTSTART;TZID=America/Los_Angeles:20251009T160000
DTEND;TZID=America/Los_Angeles:20251009T180000
DTSTAMP:20260422T021814
CREATED:20250828T145853Z
LAST-MODIFIED:20250828T145853Z
UID:10001111-1760025600-1760032800@tbytahoe.org
SUMMARY:Religious School
DESCRIPTION:
URL:https://tbytahoe.org/event/religious-school-4/2025-10-09/
LOCATION:Temple Bat Yam\, 3260 Pioneer Trail\, South Lake Tahoe\, CA\, 96150\, United States
CATEGORIES:Religious School
END:VEVENT
BEGIN:VEVENT
DTSTART;TZID=America/Los_Angeles:20251016T160000
DTEND;TZID=America/Los_Angeles:20251016T180000
DTSTAMP:20260422T021814
CREATED:20250828T145853Z
LAST-MODIFIED:20250828T145853Z
UID:10001112-1760630400-1760637600@tbytahoe.org
SUMMARY:Religious School
DESCRIPTION:
URL:https://tbytahoe.org/event/religious-school-4/2025-10-16/
LOCATION:Temple Bat Yam\, 3260 Pioneer Trail\, South Lake Tahoe\, CA\, 96150\, United States
CATEGORIES:Religious School
END:VEVENT
BEGIN:VEVENT
DTSTART;TZID=America/Los_Angeles:20251023T160000
DTEND;TZID=America/Los_Angeles:20251023T180000
DTSTAMP:20260422T021814
CREATED:20250828T145853Z
LAST-MODIFIED:20250828T145853Z
UID:10001113-1761235200-1761242400@tbytahoe.org
SUMMARY:Religious School
DESCRIPTION:
URL:https://tbytahoe.org/event/religious-school-4/2025-10-23/
LOCATION:Temple Bat Yam\, 3260 Pioneer Trail\, South Lake Tahoe\, CA\, 96150\, United States
CATEGORIES:Religious School
END:VEVENT
BEGIN:VEVENT
DTSTART;TZID=America/Los_Angeles:20251106T160000
DTEND;TZID=America/Los_Angeles:20251106T180000
DTSTAMP:20260422T021814
CREATED:20250828T145853Z
LAST-MODIFIED:20250828T145853Z
UID:10001114-1762444800-1762452000@tbytahoe.org
SUMMARY:Religious School
DESCRIPTION:
URL:https://tbytahoe.org/event/religious-school-4/2025-11-06/
LOCATION:Temple Bat Yam\, 3260 Pioneer Trail\, South Lake Tahoe\, CA\, 96150\, United States
CATEGORIES:Religious School
END:VEVENT
BEGIN:VEVENT
DTSTART;TZID=America/Los_Angeles:20251113T160000
DTEND;TZID=America/Los_Angeles:20251113T180000
DTSTAMP:20260422T021814
CREATED:20250828T145853Z
LAST-MODIFIED:20250828T145853Z
UID:10001115-1763049600-1763056800@tbytahoe.org
SUMMARY:Religious School
DESCRIPTION:
URL:https://tbytahoe.org/event/religious-school-4/2025-11-13/
LOCATION:Temple Bat Yam\, 3260 Pioneer Trail\, South Lake Tahoe\, CA\, 96150\, United States
CATEGORIES:Religious School
END:VEVENT
BEGIN:VEVENT
DTSTART;TZID=America/Los_Angeles:20251120T160000
DTEND;TZID=America/Los_Angeles:20251120T180000
DTSTAMP:20260422T021814
CREATED:20250828T145853Z
LAST-MODIFIED:20250828T145853Z
UID:10001116-1763654400-1763661600@tbytahoe.org
SUMMARY:Religious School
DESCRIPTION:
URL:https://tbytahoe.org/event/religious-school-4/2025-11-20/
LOCATION:Temple Bat Yam\, 3260 Pioneer Trail\, South Lake Tahoe\, CA\, 96150\, United States
CATEGORIES:Religious School
END:VEVENT
BEGIN:VEVENT
DTSTART;TZID=America/Los_Angeles:20251204T160000
DTEND;TZID=America/Los_Angeles:20251204T180000
DTSTAMP:20260422T021814
CREATED:20250828T145853Z
LAST-MODIFIED:20250828T145853Z
UID:10001117-1764864000-1764871200@tbytahoe.org
SUMMARY:Religious School
DESCRIPTION:
URL:https://tbytahoe.org/event/religious-school-4/2025-12-04/
LOCATION:Temple Bat Yam\, 3260 Pioneer Trail\, South Lake Tahoe\, CA\, 96150\, United States
CATEGORIES:Religious School
END:VEVENT
BEGIN:VEVENT
DTSTART;TZID=America/Los_Angeles:20251211T160000
DTEND;TZID=America/Los_Angeles:20251211T180000
DTSTAMP:20260422T021814
CREATED:20250828T145853Z
LAST-MODIFIED:20250828T145853Z
UID:10001118-1765468800-1765476000@tbytahoe.org
SUMMARY:Religious School
DESCRIPTION:
URL:https://tbytahoe.org/event/religious-school-4/2025-12-11/
LOCATION:Temple Bat Yam\, 3260 Pioneer Trail\, South Lake Tahoe\, CA\, 96150\, United States
CATEGORIES:Religious School
END:VEVENT
BEGIN:VEVENT
DTSTART;TZID=America/Los_Angeles:20251218T160000
DTEND;TZID=America/Los_Angeles:20251218T180000
DTSTAMP:20260422T021814
CREATED:20250828T145853Z
LAST-MODIFIED:20250828T145853Z
UID:10001119-1766073600-1766080800@tbytahoe.org
SUMMARY:Religious School
DESCRIPTION:
URL:https://tbytahoe.org/event/religious-school-4/2025-12-18/
LOCATION:Temple Bat Yam\, 3260 Pioneer Trail\, South Lake Tahoe\, CA\, 96150\, United States
CATEGORIES:Religious School
END:VEVENT
BEGIN:VEVENT
DTSTART;TZID=America/Los_Angeles:20260108T160000
DTEND;TZID=America/Los_Angeles:20260108T180000
DTSTAMP:20260422T021814
CREATED:20250828T145853Z
LAST-MODIFIED:20250828T145853Z
UID:10001120-1767888000-1767895200@tbytahoe.org
SUMMARY:Religious School
DESCRIPTION:
URL:https://tbytahoe.org/event/religious-school-4/2026-01-08/
LOCATION:Temple Bat Yam\, 3260 Pioneer Trail\, South Lake Tahoe\, CA\, 96150\, United States
CATEGORIES:Religious School
END:VEVENT
BEGIN:VEVENT
DTSTART;TZID=America/Los_Angeles:20260115T160000
DTEND;TZID=America/Los_Angeles:20260115T180000
DTSTAMP:20260422T021814
CREATED:20250828T145853Z
LAST-MODIFIED:20250828T145853Z
UID:10001121-1768492800-1768500000@tbytahoe.org
SUMMARY:Religious School
DESCRIPTION:
URL:https://tbytahoe.org/event/religious-school-4/2026-01-15/
LOCATION:Temple Bat Yam\, 3260 Pioneer Trail\, South Lake Tahoe\, CA\, 96150\, United States
CATEGORIES:Religious School
END:VEVENT
BEGIN:VEVENT
DTSTART;TZID=America/Los_Angeles:20260122T160000
DTEND;TZID=America/Los_Angeles:20260122T180000
DTSTAMP:20260422T021814
CREATED:20250828T145853Z
LAST-MODIFIED:20250828T145853Z
UID:10001122-1769097600-1769104800@tbytahoe.org
SUMMARY:Religious School
DESCRIPTION:
URL:https://tbytahoe.org/event/religious-school-4/2026-01-22/
LOCATION:Temple Bat Yam\, 3260 Pioneer Trail\, South Lake Tahoe\, CA\, 96150\, United States
CATEGORIES:Religious School
END:VEVENT
BEGIN:VEVENT
DTSTART;TZID=America/Los_Angeles:20260129T160000
DTEND;TZID=America/Los_Angeles:20260129T180000
DTSTAMP:20260422T021814
CREATED:20250828T145853Z
LAST-MODIFIED:20250828T145853Z
UID:10001123-1769702400-1769709600@tbytahoe.org
SUMMARY:Religious School
DESCRIPTION:
URL:https://tbytahoe.org/event/religious-school-4/2026-01-29/
LOCATION:Temple Bat Yam\, 3260 Pioneer Trail\, South Lake Tahoe\, CA\, 96150\, United States
CATEGORIES:Religious School
END:VEVENT
BEGIN:VEVENT
DTSTART;TZID=America/Los_Angeles:20260205T160000
DTEND;TZID=America/Los_Angeles:20260205T180000
DTSTAMP:20260422T021814
CREATED:20250828T145853Z
LAST-MODIFIED:20250828T145853Z
UID:10001124-1770307200-1770314400@tbytahoe.org
SUMMARY:Religious School
DESCRIPTION:
URL:https://tbytahoe.org/event/religious-school-4/2026-02-05/
LOCATION:Temple Bat Yam\, 3260 Pioneer Trail\, South Lake Tahoe\, CA\, 96150\, United States
CATEGORIES:Religious School
END:VEVENT
BEGIN:VEVENT
DTSTART;TZID=America/Los_Angeles:20260212T160000
DTEND;TZID=America/Los_Angeles:20260212T180000
DTSTAMP:20260422T021814
CREATED:20250828T145853Z
LAST-MODIFIED:20250828T145853Z
UID:10001125-1770912000-1770919200@tbytahoe.org
SUMMARY:Religious School
DESCRIPTION:
URL:https://tbytahoe.org/event/religious-school-4/2026-02-12/
LOCATION:Temple Bat Yam\, 3260 Pioneer Trail\, South Lake Tahoe\, CA\, 96150\, United States
CATEGORIES:Religious School
END:VEVENT
BEGIN:VEVENT
DTSTART;TZID=America/Los_Angeles:20260226T160000
DTEND;TZID=America/Los_Angeles:20260226T180000
DTSTAMP:20260422T021814
CREATED:20250828T145853Z
LAST-MODIFIED:20250828T145853Z
UID:10001126-1772121600-1772128800@tbytahoe.org
SUMMARY:Religious School
DESCRIPTION:
URL:https://tbytahoe.org/event/religious-school-4/2026-02-26/
LOCATION:Temple Bat Yam\, 3260 Pioneer Trail\, South Lake Tahoe\, CA\, 96150\, United States
CATEGORIES:Religious School
END:VEVENT
BEGIN:VEVENT
DTSTART;TZID=America/Los_Angeles:20260305T160000
DTEND;TZID=America/Los_Angeles:20260305T180000
DTSTAMP:20260422T021814
CREATED:20250828T145853Z
LAST-MODIFIED:20250828T145853Z
UID:10001127-1772726400-1772733600@tbytahoe.org
SUMMARY:Religious School
DESCRIPTION:
URL:https://tbytahoe.org/event/religious-school-4/2026-03-05/
LOCATION:Temple Bat Yam\, 3260 Pioneer Trail\, South Lake Tahoe\, CA\, 96150\, United States
CATEGORIES:Religious School
END:VEVENT
BEGIN:VEVENT
DTSTART;TZID=America/Los_Angeles:20260312T160000
DTEND;TZID=America/Los_Angeles:20260312T180000
DTSTAMP:20260422T021814
CREATED:20250828T145853Z
LAST-MODIFIED:20250828T145853Z
UID:10001128-1773331200-1773338400@tbytahoe.org
SUMMARY:Religious School
DESCRIPTION:
URL:https://tbytahoe.org/event/religious-school-4/2026-03-12/
LOCATION:Temple Bat Yam\, 3260 Pioneer Trail\, South Lake Tahoe\, CA\, 96150\, United States
CATEGORIES:Religious School
END:VEVENT
BEGIN:VEVENT
DTSTART;TZID=America/Los_Angeles:20260319T160000
DTEND;TZID=America/Los_Angeles:20260319T180000
DTSTAMP:20260422T021814
CREATED:20250828T145853Z
LAST-MODIFIED:20250828T145853Z
UID:10001129-1773936000-1773943200@tbytahoe.org
SUMMARY:Religious School
DESCRIPTION:
URL:https://tbytahoe.org/event/religious-school-4/2026-03-19/
LOCATION:Temple Bat Yam\, 3260 Pioneer Trail\, South Lake Tahoe\, CA\, 96150\, United States
CATEGORIES:Religious School
END:VEVENT
BEGIN:VEVENT
DTSTART;TZID=America/Los_Angeles:20260326T160000
DTEND;TZID=America/Los_Angeles:20260326T180000
DTSTAMP:20260422T021814
CREATED:20250828T145853Z
LAST-MODIFIED:20250828T145853Z
UID:10001130-1774540800-1774548000@tbytahoe.org
SUMMARY:Religious School
DESCRIPTION:
URL:https://tbytahoe.org/event/religious-school-4/2026-03-26/
LOCATION:Temple Bat Yam\, 3260 Pioneer Trail\, South Lake Tahoe\, CA\, 96150\, United States
CATEGORIES:Religious School
END:VEVENT
BEGIN:VEVENT
DTSTART;TZID=America/Los_Angeles:20260423T160000
DTEND;TZID=America/Los_Angeles:20260423T180000
DTSTAMP:20260422T021814
CREATED:20250828T145853Z
LAST-MODIFIED:20250828T145853Z
UID:10001132-1776960000-1776967200@tbytahoe.org
SUMMARY:Religious School
DESCRIPTION:
URL:https://tbytahoe.org/event/religious-school-4/2026-04-23/
LOCATION:Temple Bat Yam\, 3260 Pioneer Trail\, South Lake Tahoe\, CA\, 96150\, United States
CATEGORIES:Religious School
END:VEVENT
BEGIN:VEVENT
DTSTART;TZID=America/Los_Angeles:20260430T160000
DTEND;TZID=America/Los_Angeles:20260430T180000
DTSTAMP:20260422T021814
CREATED:20250828T145853Z
LAST-MODIFIED:20250828T145853Z
UID:10001133-1777564800-1777572000@tbytahoe.org
SUMMARY:Religious School
DESCRIPTION:
URL:https://tbytahoe.org/event/religious-school-4/2026-04-30/
LOCATION:Temple Bat Yam\, 3260 Pioneer Trail\, South Lake Tahoe\, CA\, 96150\, United States
CATEGORIES:Religious School
END:VEVENT
BEGIN:VEVENT
DTSTART;TZID=America/Los_Angeles:20260507T160000
DTEND;TZID=America/Los_Angeles:20260507T180000
DTSTAMP:20260422T021814
CREATED:20250828T145853Z
LAST-MODIFIED:20250828T145853Z
UID:10001134-1778169600-1778176800@tbytahoe.org
SUMMARY:Religious School
DESCRIPTION:
URL:https://tbytahoe.org/event/religious-school-4/2026-05-07/
LOCATION:Temple Bat Yam\, 3260 Pioneer Trail\, South Lake Tahoe\, CA\, 96150\, United States
CATEGORIES:Religious School
END:VEVENT
END:VCALENDAR