BEGIN:VCALENDAR
VERSION:2.0
PRODID:-//Temple Bat Yam - ECPv6.15.17//NONSGML v1.0//EN
CALSCALE:GREGORIAN
METHOD:PUBLISH
X-ORIGINAL-URL:https://tbytahoe.org
X-WR-CALDESC:Events for Temple Bat Yam
REFRESH-INTERVAL;VALUE=DURATION:PT1H
X-Robots-Tag:noindex
X-PUBLISHED-TTL:PT1H
BEGIN:VTIMEZONE
TZID:America/Los_Angeles
BEGIN:DAYLIGHT
TZOFFSETFROM:-0800
TZOFFSETTO:-0700
TZNAME:PDT
DTSTART:20250309T100000
END:DAYLIGHT
BEGIN:STANDARD
TZOFFSETFROM:-0700
TZOFFSETTO:-0800
TZNAME:PST
DTSTART:20251102T090000
END:STANDARD
BEGIN:DAYLIGHT
TZOFFSETFROM:-0800
TZOFFSETTO:-0700
TZNAME:PDT
DTSTART:20260308T100000
END:DAYLIGHT
BEGIN:STANDARD
TZOFFSETFROM:-0700
TZOFFSETTO:-0800
TZNAME:PST
DTSTART:20261101T090000
END:STANDARD
BEGIN:DAYLIGHT
TZOFFSETFROM:-0800
TZOFFSETTO:-0700
TZNAME:PDT
DTSTART:20270314T100000
END:DAYLIGHT
BEGIN:STANDARD
TZOFFSETFROM:-0700
TZOFFSETTO:-0800
TZNAME:PST
DTSTART:20271107T090000
END:STANDARD
END:VTIMEZONE
BEGIN:VEVENT
DTSTART;TZID=America/Los_Angeles:20260305T160000
DTEND;TZID=America/Los_Angeles:20260305T180000
DTSTAMP:20260424T020046
CREATED:20250828T145853Z
LAST-MODIFIED:20250828T145853Z
UID:10001127-1772726400-1772733600@tbytahoe.org
SUMMARY:Religious School
DESCRIPTION:
URL:https://tbytahoe.org/event/religious-school-4/2026-03-05/
LOCATION:Temple Bat Yam\, 3260 Pioneer Trail\, South Lake Tahoe\, CA\, 96150\, United States
CATEGORIES:Religious School
END:VEVENT
BEGIN:VEVENT
DTSTART;TZID=America/Los_Angeles:20260312T160000
DTEND;TZID=America/Los_Angeles:20260312T180000
DTSTAMP:20260424T020046
CREATED:20250828T145853Z
LAST-MODIFIED:20250828T145853Z
UID:10001128-1773331200-1773338400@tbytahoe.org
SUMMARY:Religious School
DESCRIPTION:
URL:https://tbytahoe.org/event/religious-school-4/2026-03-12/
LOCATION:Temple Bat Yam\, 3260 Pioneer Trail\, South Lake Tahoe\, CA\, 96150\, United States
CATEGORIES:Religious School
END:VEVENT
BEGIN:VEVENT
DTSTART;TZID=America/Los_Angeles:20260319T160000
DTEND;TZID=America/Los_Angeles:20260319T180000
DTSTAMP:20260424T020046
CREATED:20250828T145853Z
LAST-MODIFIED:20250828T145853Z
UID:10001129-1773936000-1773943200@tbytahoe.org
SUMMARY:Religious School
DESCRIPTION:
URL:https://tbytahoe.org/event/religious-school-4/2026-03-19/
LOCATION:Temple Bat Yam\, 3260 Pioneer Trail\, South Lake Tahoe\, CA\, 96150\, United States
CATEGORIES:Religious School
END:VEVENT
BEGIN:VEVENT
DTSTART;TZID=America/Los_Angeles:20260326T160000
DTEND;TZID=America/Los_Angeles:20260326T180000
DTSTAMP:20260424T020046
CREATED:20250828T145853Z
LAST-MODIFIED:20250828T145853Z
UID:10001130-1774540800-1774548000@tbytahoe.org
SUMMARY:Religious School
DESCRIPTION:
URL:https://tbytahoe.org/event/religious-school-4/2026-03-26/
LOCATION:Temple Bat Yam\, 3260 Pioneer Trail\, South Lake Tahoe\, CA\, 96150\, United States
CATEGORIES:Religious School
END:VEVENT
END:VCALENDAR