BEGIN:VCALENDAR
VERSION:2.0
PRODID:-//Temple Bat Yam - ECPv6.15.17//NONSGML v1.0//EN
CALSCALE:GREGORIAN
METHOD:PUBLISH
X-ORIGINAL-URL:https://tbytahoe.org
X-WR-CALDESC:Events for Temple Bat Yam
REFRESH-INTERVAL;VALUE=DURATION:PT1H
X-Robots-Tag:noindex
X-PUBLISHED-TTL:PT1H
BEGIN:VTIMEZONE
TZID:America/Los_Angeles
BEGIN:DAYLIGHT
TZOFFSETFROM:-0800
TZOFFSETTO:-0700
TZNAME:PDT
DTSTART:20240310T100000
END:DAYLIGHT
BEGIN:STANDARD
TZOFFSETFROM:-0700
TZOFFSETTO:-0800
TZNAME:PST
DTSTART:20241103T090000
END:STANDARD
BEGIN:DAYLIGHT
TZOFFSETFROM:-0800
TZOFFSETTO:-0700
TZNAME:PDT
DTSTART:20250309T100000
END:DAYLIGHT
BEGIN:STANDARD
TZOFFSETFROM:-0700
TZOFFSETTO:-0800
TZNAME:PST
DTSTART:20251102T090000
END:STANDARD
BEGIN:DAYLIGHT
TZOFFSETFROM:-0800
TZOFFSETTO:-0700
TZNAME:PDT
DTSTART:20260308T100000
END:DAYLIGHT
BEGIN:STANDARD
TZOFFSETFROM:-0700
TZOFFSETTO:-0800
TZNAME:PST
DTSTART:20261101T090000
END:STANDARD
END:VTIMEZONE
BEGIN:VEVENT
DTSTART;TZID=America/Los_Angeles:20250201T083000
DTEND;TZID=America/Los_Angeles:20250201T160000
DTSTAMP:20260420T015447
CREATED:20240523T224915Z
LAST-MODIFIED:20250122T155251Z
UID:10000843-1738398600-1738425600@tbytahoe.org
SUMMARY:TJC Ski in the Trees - Shabbat on Snow @ Diamond Peak
DESCRIPTION:Join us at Diamond Peak in Incline Village on Saturday\, February 1st\, 2025 for our Tahoe Jewish Community Ski In The Trees Gathering!  \nShabbat/Saturday February 1\, 2025 Schedule \n8:30am – Meet @ Main Lodge Deck for lift tickets\, breakfast \n9:30am – Tu B’Shevat Learning & Celebration \n10-12:30p – Making Turns with Friends\, on our own\, and as a TJC family \n12:30p – Meet @ Main Lodge Deck for lunch \n1:15p – Short Tu B’Shevat Moment \n1:30-4p – Making Turns with Friends\, on our own\, and as a TJC family \n4:30p – Havdalah  \nFirst 25 registrations to receive $25* lift ticket \nRegistrants 26-35 to receive $50* lift ticket  \n*These rates are for members of TJC congregations (NTHC & TBY) \nWe are excited this year to offer lift tickets to the wider community(Non-NTHC or TBY members) at $65 per lift ticket \nBreakfast & Lunch are included for all participants \n**Registration is capped at 50 souls.  That means we have access to 50 total lift tickets.  If you register after this registration limit is reached\, you are welcome to join by purchasing your own lift ticket and registering for breakfast and lunch only\, we will gladly provide food for you to join in a wonderful day in community. \n  \nOnce you Register you will receive a confirmation email. If you have any questions please reach out to Alicia- alicia@tbytahoe.org \nRabbi Evon and Rabbi Lauren will send more information via email to all participants the week prior to Ski in the Trees.
URL:https://tbytahoe.org/event/tjc-ski-in-the-trees-shabbat-on-snow-diamond-peak-3/
LOCATION:Diamond Peak Ski Resort\, 1210 Ski Way\, Incline Village\, NV\, 89451\, United States
CATEGORIES:Other,Retreat,TJC
END:VEVENT
END:VCALENDAR